BEGIN:VCALENDAR
VERSION:2.0
PRODID:-//wp-events-plugin.com//7.2.3.1//EN
TZID:Europe/Zurich
X-WR-TIMEZONE:Europe/Zurich
BEGIN:VEVENT
UID:3733@feel-vaud.ch
DTSTART;TZID=Europe/Zurich:20220923T101500
DTEND;TZID=Europe/Zurich:20220923T120000
DTSTAMP:20220823T152534Z
URL:https://feel-vaud.ch/events/4eme-classe-steiner-6h-2022-09-23/
SUMMARY:4ème classe Steiner (6H)
DESCRIPTION:Âge\, cycle concerné : 6H\n\nAnimateur (s) : Lisa\n\nContact 
 : 0767241012\n\nLieu : L'atelier se déroule chez Lisa\n\nDescriptif : U
 ne partie du programme Steiner. Histoire et mythologie celtique. Texte\, d
 essin\, modelage\, chants\, poèmes\, rondes\, flûte à bec\, visites de 
 musées\, science des animaux\, dessins de formes\, cordelette en crochet\
 , point de croix\, calligraphie.\n\nDurée du module : 1 an\n\nNbr max de
  participant : 7\n\nParticipants : \n\n 	Théo\n 	Gaspard\n 	Talia\n 	Lau
 rine\n 	Adis\n 	Loukia\n 	Matéo\n\nAccompagnants recherchés : Non\, sauf
  pour les visites j'aurai besoin d'un adulte avec sa voiture\n\nMatériel 
 à prendre :  Crayons de couleurs\, plume calligraphie\, cahiers (fournis
  par moi)\n\nFrais : petit matériel\n\nLien : messages privés sur forum\
 n\nAutre : Merci de ne pas arriver avant 10h15
END:VEVENT
BEGIN:VTIMEZONE
TZID:Europe/Zurich
X-LIC-LOCATION:Europe/Zurich
BEGIN:DAYLIGHT
DTSTART:20220327T030000
TZOFFSETFROM:+0100
TZOFFSETTO:+0200
TZNAME:CEST
END:DAYLIGHT
END:VTIMEZONE
END:VCALENDAR