BEGIN:VCALENDAR
VERSION:2.0
PRODID:-//wp-events-plugin.com//7.2.3.1//EN
TZID:Europe/Zurich
X-WR-TIMEZONE:Europe/Zurich
BEGIN:VEVENT
UID:4599@feel-vaud.ch
DTSTART;TZID=Europe/Zurich:20221101T133000
DTEND;TZID=Europe/Zurich:20221101T143000
DTSTAMP:20221031T135027Z
URL:https://feel-vaud.ch/events/animaux-1ers-soins-2022-10-18/
SUMMARY:Animaux : 1ers soins - dès 6 ans
DESCRIPTION:Âge\, cycle concerné : dès 3H - adultes bienvenus \n\nAnim
 ateur (s) : Jeanne\n\nContact : 076 518 17 22\n\nLieu : Petite salle d'é
 tude FEEL\n\nDescriptif : Cet atelier de soins aux animaux se veut avant t
 out pratique. Si tout le monde sait à peu près comment s'occuper au quot
 idien d'un chat ou d'un chien\, il en est tout autrement en cas d'urgence.
  Classer les besoins des animaux\, connaître les besoins vitaux et les ge
 stes à faire en cas d'urgence\, voilà l'objet de ce petit module de deux
  mois.\n\nDurée du module : 2 mois\n\nNbr max de participant : 6\n\nPart
 icipants : \n\n 	Adèle\n 	Nom\n 	Nom\n 	Nom\n 	Nom\n\nAccompagnants rech
 erchés : Non\n\nMatériel à prendre : 1 cahier (fourni par moi) et de q
 uoi écrire\n\nFrais : prix du cahier (encore en recherche)\n\nLien : Lie
 n vers la discussion forum ou chaîne de mail forum correspondante\,  li
 en du site de l'endroit à visiter\, etc...\n\nAutre : Remarques diverses
END:VEVENT
BEGIN:VTIMEZONE
TZID:Europe/Zurich
X-LIC-LOCATION:Europe/Zurich
BEGIN:STANDARD
DTSTART:20221030T020000
TZOFFSETFROM:+0200
TZOFFSETTO:+0100
TZNAME:CET
END:STANDARD
END:VTIMEZONE
END:VCALENDAR