BEGIN:VCALENDAR
VERSION:2.0
PRODID:-//wp-events-plugin.com//7.2.3.1//EN
TZID:Europe/Zurich
X-WR-TIMEZONE:Europe/Zurich
BEGIN:VEVENT
UID:6409@feel-vaud.ch
DTSTART;TZID=Europe/Zurich:20221210T093000
DTEND;TZID=Europe/Zurich:20221210T123000
DTSTAMP:20221101T192948Z
URL:https://feel-vaud.ch/events/ap-2/
SUMMARY:AP
DESCRIPTION:Lieu : Feel\n\n&nbsp\;
END:VEVENT
BEGIN:VTIMEZONE
TZID:Europe/Zurich
X-LIC-LOCATION:Europe/Zurich
BEGIN:STANDARD
DTSTART:20221030T020000
TZOFFSETFROM:+0200
TZOFFSETTO:+0100
TZNAME:CET
END:STANDARD
END:VTIMEZONE
END:VCALENDAR