BEGIN:VCALENDAR
VERSION:2.0
PRODID:-//wp-events-plugin.com//7.2.3.1//EN
TZID:Europe/Zurich
X-WR-TIMEZONE:Europe/Zurich
BEGIN:VEVENT
UID:3261@feel-vaud.ch
DTSTART;TZID=Europe/Zurich:20220707T140000
DTEND;TZID=Europe/Zurich:20220707T210000
DTSTAMP:20220703T091141Z
URL:https://feel-vaud.ch/events/assemblee-parents/
SUMMARY:Assemblée parents
DESCRIPTION:Exceptionnellement\, cette Assemblée parents estivale regroupe
  aussi les enfants \; vous pouvez donc venir en famille et nous organisero
 ns sur place la garde des tout petits\n\nAnimateur (s) : COPAR\n\nContact
  : Mathieu Glayre 052 366 35 75\n\nLieu :  ATTENTION : à la plage d'Yver
 don si beau temps \; à Feel si mauvais temps\, consultez le forum avant d
 e partir : https://ief.ttree.space/t/aps-dete/9236\n\nHoraire : 14h-19h et
  repas dès 19h\n\nDescriptif détaillé : voir  https://ief.ttree.space/
 t/aps-dete/9236\n\nMatériel à prendre : repas canadien à 19h \; vos ca
 leçons de bain et affaires de plage\n\n&nbsp\;
END:VEVENT
BEGIN:VTIMEZONE
TZID:Europe/Zurich
X-LIC-LOCATION:Europe/Zurich
BEGIN:DAYLIGHT
DTSTART:20220327T030000
TZOFFSETFROM:+0100
TZOFFSETTO:+0200
TZNAME:CEST
END:DAYLIGHT
END:VTIMEZONE
END:VCALENDAR