BEGIN:VCALENDAR
VERSION:2.0
PRODID:-//wp-events-plugin.com//7.2.3.1//EN
TZID:Europe/Zurich
X-WR-TIMEZONE:Europe/Zurich
BEGIN:VEVENT
UID:6391@feel-vaud.ch
DTSTART;TZID=Europe/Zurich:20221213T100000
DTEND;TZID=Europe/Zurich:20221213T120000
DTSTAMP:20221030T175920Z
URL:https://feel-vaud.ch/events/atelier-2eme-classe-steiner-2022-12-13/
SUMMARY:Atelier 2ème classe Steiner
DESCRIPTION:Âge\, cycle concerné : 4p\n\nAnimateur (s) : Lisa\n\nContact 
 : Nom et numéro de téléphone\n\nLieu : chez Lisa\n\nDescriptif : Sujet 
 de l'atelier (max d'infos)\n\nDurée du module : 1 an\n\nNbr max de part
 icipant : 5\n\nParticipants : \n\n 	Joël\n 	Tim\n 	Adèle\n 	Milo\n 	Tal
 ya\n\nAccompagnants recherchés : Non\n\nMatériel à prendre : Cahiers\, 
 flûte crayons\n\nFrais : \n\nLien : Lien vers la discussion forum ou c
 haîne de mail forum correspondante\,  lien du site de l'endroit à visi
 ter\, etc...\n\nAutre : Accueil dès 10h\, début 10h10. merci de ne pas 
 être en avance.
END:VEVENT
BEGIN:VTIMEZONE
TZID:Europe/Zurich
X-LIC-LOCATION:Europe/Zurich
BEGIN:STANDARD
DTSTART:20221030T020000
TZOFFSETFROM:+0200
TZOFFSETTO:+0100
TZNAME:CET
END:STANDARD
END:VTIMEZONE
END:VCALENDAR