BEGIN:VCALENDAR
VERSION:2.0
PRODID:-//wp-events-plugin.com//7.2.3.1//EN
TZID:Europe/Zurich
X-WR-TIMEZONE:Europe/Zurich
BEGIN:VEVENT
UID:6401@feel-vaud.ch
DTSTART;TZID=Europe/Zurich:20221104T101500
DTEND;TZID=Europe/Zurich:20221104T120000
DTSTAMP:20221030T180828Z
URL:https://feel-vaud.ch/events/atelier-4eme-classe-steiner-2022-11-04/
SUMMARY:Atelier 4ème classe Steiner
DESCRIPTION:Âge\, cycle concerné : 6p\n\nAnimateur (s) : Lisa\n\nContact
  : Nom et numéro de téléphone\n\nLieu : chez Lisa\n\nDescriptif : Sujet
  de l'atelier (max d'infos)\n\nDurée du module : 1 an\,\n\nNbr max de p
 articipant : 7\n\nParticipants : \n\n 	Théo\n 	Gaspard\n 	Laurine\n 	Tal
 ia\n 	Adis\n 	Loukia\n 	Matteo\n\nAccompagnants recherchés : Non\n\nMaté
 riel à prendre : Cahiers flûte plume crayons\n\nFrais : \n\nLien : Lien
  vers la discussion forum ou chaîne de mail forum correspondante\,  lie
 n du site de l'endroit à visiter\, etc...\n\nAutre : Accueil entre 10h15
  et 10h20\, merci de ne pas arriver en avance.
END:VEVENT
BEGIN:VTIMEZONE
TZID:Europe/Zurich
X-LIC-LOCATION:Europe/Zurich
BEGIN:STANDARD
DTSTART:20221030T020000
TZOFFSETFROM:+0200
TZOFFSETTO:+0100
TZNAME:CET
END:STANDARD
END:VTIMEZONE
END:VCALENDAR