BEGIN:VCALENDAR
VERSION:2.0
PRODID:-//wp-events-plugin.com//7.2.3.1//EN
TZID:Europe/Zurich
X-WR-TIMEZONE:Europe/Zurich
BEGIN:VEVENT
UID:6398@feel-vaud.ch
DTSTART;TZID=Europe/Zurich:20221207T100000
DTEND;TZID=Europe/Zurich:20221207T120000
DTSTAMP:20221030T180425Z
URL:https://feel-vaud.ch/events/atelier-6eme-classe-steiner-2022-12-07/
SUMMARY:Atelier 6ème classe Steiner
DESCRIPTION:Âge\, cycle concerné : 7p\n\nAnimateur (s) : Lisa\n\nContact
  : Nom et numéro de téléphone\n\nLieu : Chez Lisa.\n\nDescriptif : Suje
 t de l'atelier (max d'infos)\n\nDurée du module : 1 an\n\nNbr max de pa
 rticipant : 8\n\nParticipants : \n\n 	Noé\n 	Célestin\n 	Elouan\n 	Maxi
 me\n 	Yaëlle\n 	Saya\n 	Sara\n 	Théo\n\nAccompagnants recherchés : Non\
 n\nMatériel à prendre : Cahier\, crayons\, plume\, flûte\n\nFrais : \n\
 nLien : Lien vers la discussion forum ou chaîne de mail forum correspon
 dante\,  lien du site de l'endroit à visiter\, etc...\n\nAutre : Accuei
 l entre 10h et 10h10\, merci de ne pas arriver en avance.\n\nIl y aura plu
 sieurs sorties\, je vous en informerais via le forum.
END:VEVENT
BEGIN:VTIMEZONE
TZID:Europe/Zurich
X-LIC-LOCATION:Europe/Zurich
BEGIN:STANDARD
DTSTART:20221030T020000
TZOFFSETFROM:+0200
TZOFFSETTO:+0100
TZNAME:CET
END:STANDARD
END:VTIMEZONE
END:VCALENDAR