BEGIN:VCALENDAR
VERSION:2.0
PRODID:-//wp-events-plugin.com//7.2.3.1//EN
TZID:Europe/Zurich
X-WR-TIMEZONE:Europe/Zurich
BEGIN:VEVENT
UID:6509@feel-vaud.ch
DTSTART;TZID=Europe/Zurich:20221117T100000
DTEND;TZID=Europe/Zurich:20221117T120000
DTSTAMP:20221116T214924Z
URL:https://feel-vaud.ch/events/co-working-2/
SUMMARY:co-working -
DESCRIPTION:Animateur (s) : Vanessa\n\n\nContact : 079 427 58 27\n\n\nLieu 
 : FEEL\n\nDescriptif : co-working\n\nDurée du module : 2h\n\nNbr max de p
 articipant : 2\n\nParticipants : \n\n 	Gaspard\n 	Théo\n\n \n\n&nbsp\;
END:VEVENT
BEGIN:VTIMEZONE
TZID:Europe/Zurich
X-LIC-LOCATION:Europe/Zurich
BEGIN:STANDARD
DTSTART:20221030T020000
TZOFFSETFROM:+0200
TZOFFSETTO:+0100
TZNAME:CET
END:STANDARD
END:VTIMEZONE
END:VCALENDAR