BEGIN:VCALENDAR
VERSION:2.0
PRODID:-//wp-events-plugin.com//7.2.3.1//EN
TZID:Europe/Zurich
X-WR-TIMEZONE:Europe/Zurich
BEGIN:VEVENT
UID:6023@feel-vaud.ch
DTSTART;TZID=Europe/Zurich:20220928T193000
DTEND;TZID=Europe/Zurich:20220928T213000
DTSTAMP:20220915T090755Z
URL:https://feel-vaud.ch/events/deputes-reunion-de-preparation-parents/
SUMMARY:Députés : réunion de préparation parents
DESCRIPTION:Âge\, cycle concerné : Parents et grands ados\n\nAnimateur (s
 ) : Jeanne Rektorik &amp\; IEL\n\nContact : 076 518 17 22\n\nLieu : FEEL\
 n\nDescriptif : Un temps pour préparer la rencontre avec les députés :
  comment cette réunion va se dérouler\, ce qu'on attend de vous\, commen
 t parler\, qu'attendons-nous des enfants.\n\nDurée du module : \n\nNbr m
 ax de participant : uniquement pour les familles qui ont été contactée
 s pour cet événement\n\nParticipants : \n\n 	Nom\n 	Nom\n 	Nom\n 	Nom\n
  	Nom\n\nAccompagnants recherchés : non\n\nMatériel à prendre : de quo
 i noter\n\nFrais : \n\nLien : \n\nAutre : 
END:VEVENT
BEGIN:VTIMEZONE
TZID:Europe/Zurich
X-LIC-LOCATION:Europe/Zurich
BEGIN:DAYLIGHT
DTSTART:20220327T030000
TZOFFSETFROM:+0100
TZOFFSETTO:+0200
TZNAME:CEST
END:DAYLIGHT
END:VTIMEZONE
END:VCALENDAR