BEGIN:VCALENDAR
VERSION:2.0
PRODID:-//wp-events-plugin.com//7.2.3.1//EN
TZID:Europe/Zurich
X-WR-TIMEZONE:Europe/Zurich
BEGIN:VEVENT
UID:6508@feel-vaud.ch
DTSTART;TZID=Europe/Zurich:20221203T133000
DTEND;TZID=Europe/Zurich:20221203T183000
DTSTAMP:20221126T121905Z
URL:https://feel-vaud.ch/events/excursion-sportive-trampolines/
SUMMARY:Excursion sportive (trampolines!)
DESCRIPTION:Âge\, cycle concerné : Tous\n\nAnimateur (s) : Didi\n\nConta
 ct :077 513 09 85 Didi\n\nLieu : Jumpapark Yverdon (https://jumpark.ch/)\n
 \nDescriptif :\n\nDeuxième excursion sportive dans la série des premiers
  samedis du mois. L'espace accueille les enfants à partir de 4 ans. Ok av
 ec ou sans parents suivant le nombre d'inscrits ici ou sur le forum.\n\nD
 épart de la gare d'Arnex pour prendre le train direction Lausanne à 13h3
 0\, changement de train à Cossonay. Evidemment possible de rejoindre à Y
 verdon ou autres.\n\nRetour à la gare d'Arnex à 18h28.\n\nN'oubliez pas 
 les sous pour l'entrée (https://jumpark.ch/tarifs/) et le train !\n\nPour
  des questions SMS à Didi 077 513 09 85\n\nVenez sauter avec nous !\n\nNb
 r max de participant : pas de nombre max\n\nParticipants : \n\n 	Elouan\
 n 	Yohan\n 	Tim\n 	Dan\n 	Gaspard\n 	Simon\n 	Maxime\n 	...\n 	...\n 	...\
 n\nAccompagnants recherchés : Dépend du nombre d'enfants\n\nMatériel à
  prendre : En-cas\n\nFrais : Train\, entrée.\n\n&nbsp\;\n\nAutre : Youpi
 e !
CATEGORIES:Évènements,Vacances Scolaire et jours fériés
END:VEVENT
BEGIN:VTIMEZONE
TZID:Europe/Zurich
X-LIC-LOCATION:Europe/Zurich
BEGIN:STANDARD
DTSTART:20221030T020000
TZOFFSETFROM:+0200
TZOFFSETTO:+0100
TZNAME:CET
END:STANDARD
END:VTIMEZONE
END:VCALENDAR