BEGIN:VCALENDAR
VERSION:2.0
PRODID:-//wp-events-plugin.com//7.2.3.1//EN
TZID:Europe/Zurich
X-WR-TIMEZONE:Europe/Zurich
BEGIN:VEVENT
UID:6383@feel-vaud.ch
DTSTART;TZID=Europe/Zurich;VALUE=DATE:20221222
DTEND;TZID=Europe/Zurich;VALUE=DATE:20230301
DTSTAMP:20221219T180326Z
URL:https://feel-vaud.ch/events/fermeture-annuelle-de-feel/
SUMMARY:Fermeture annuelle de FEEL
DESCRIPTION:FEEL est fermé pour l'hiver
END:VEVENT
BEGIN:VTIMEZONE
TZID:Europe/Zurich
X-LIC-LOCATION:Europe/Zurich
BEGIN:STANDARD
DTSTART:20221030T020000
TZOFFSETFROM:+0200
TZOFFSETTO:+0100
TZNAME:CET
END:STANDARD
END:VTIMEZONE
END:VCALENDAR