BEGIN:VCALENDAR
VERSION:2.0
PRODID:-//wp-events-plugin.com//7.2.3.1//EN
TZID:Europe/Zurich
X-WR-TIMEZONE:Europe/Zurich
BEGIN:VEVENT
UID:6005@feel-vaud.ch
DTSTART;TZID=Europe/Zurich:20220907T193000
DTEND;TZID=Europe/Zurich:20220907T213000
DTSTAMP:20220906T214036Z
URL:https://feel-vaud.ch/events/formation-parents-8-9-h/
SUMMARY:Formation parents 8-9 H
DESCRIPTION:Âge\, cycle concerné : parent des niveaux 8-9H.\nAnimateur (
 s) : Monica\n\nContact : 076/567.56.29\n\nLieu : Grande salle\, feel\n\
 nDescriptif : formation sur la pédagogie par projets. \n\nDurée du mod
 ule : 2 H.\n\nNbr max de participant : -\n\nParticipants : \n\n 	Christ
 ian \n 	Caroline \n 	Emanuel \n 	Nom\n 	Nom\n\nAccompagnants recherché
 s : Non\n\nMatériel à prendre : -\n\nFrais : - \, merci Monica\n\nLien
  : -\n\nAutre : -
END:VEVENT
BEGIN:VTIMEZONE
TZID:Europe/Zurich
X-LIC-LOCATION:Europe/Zurich
BEGIN:DAYLIGHT
DTSTART:20220327T030000
TZOFFSETFROM:+0100
TZOFFSETTO:+0200
TZNAME:CEST
END:DAYLIGHT
END:VTIMEZONE
END:VCALENDAR