BEGIN:VCALENDAR
VERSION:2.0
PRODID:-//wp-events-plugin.com//7.2.3.1//EN
TZID:Europe/Zurich
X-WR-TIMEZONE:Europe/Zurich
BEGIN:VEVENT
UID:3158@feel-vaud.ch
DTSTART;TZID=Europe/Zurich;VALUE=DATE:20220523
DTEND;TZID=Europe/Zurich;VALUE=DATE:20220524
DTSTAMP:20220513T102315Z
URL:https://feel-vaud.ch/events/formation-parents-ief/
SUMMARY:Formation parents IEF
DESCRIPTION:Nadia et Christian donneront une formation ouverte à tous les 
 parents IEF de Romandie\, qui aura lieu toute la journée\, dans la salle 
 de Pedro\n\nCette formation n'est pas organisée par l'association Feel ma
 is soutenue par elle et par l'association IEL\n\nPour les tarifs et tout a
 utre renseignement\, appeler Nadia au  078 761 37 07 ou Christian au 076 
 567 56 29
CATEGORIES:Évènements
END:VEVENT
BEGIN:VTIMEZONE
TZID:Europe/Zurich
X-LIC-LOCATION:Europe/Zurich
BEGIN:DAYLIGHT
DTSTART:20220327T030000
TZOFFSETFROM:+0100
TZOFFSETTO:+0200
TZNAME:CEST
END:DAYLIGHT
END:VTIMEZONE
END:VCALENDAR