BEGIN:VCALENDAR
VERSION:2.0
PRODID:-//wp-events-plugin.com//7.2.3.1//EN
TZID:Europe/Zurich
X-WR-TIMEZONE:Europe/Zurich
BEGIN:VEVENT
UID:4029@feel-vaud.ch
DTSTART;TZID=Europe/Zurich:20220830T100000
DTEND;TZID=Europe/Zurich:20220830T104500
DTSTAMP:20220828T183437Z
URL:https://feel-vaud.ch/events/francais-4-5h/
SUMMARY:Français 4-5H
DESCRIPTION:Âge\, cycle concerné : 4-5H\n\nAnimateur (s) : Christian et
  Alexia \n\nContact : 076/567.56.29\n\nLieu : Feel\n\nDescriptif : Év
 aluation des compétences pour préparer un atelier hebdomadaire de franç
 ais. \n\nDurée du module : 45 min.\n\nNbr max de participant : -\n\nPa
 rticipants : \n\n 	Keyvan\n 	Devan\n 	Nom\n 	Nom\n 	Nom\n\nAccompagnants 
 recherchés : /Non\n\nMatériel à prendre : de quoi écrire\n\nFrais : -
 \n\nLien : -\n\nAutre : -
END:VEVENT
BEGIN:VTIMEZONE
TZID:Europe/Zurich
X-LIC-LOCATION:Europe/Zurich
BEGIN:DAYLIGHT
DTSTART:20220327T030000
TZOFFSETFROM:+0100
TZOFFSETTO:+0200
TZNAME:CEST
END:DAYLIGHT
END:VTIMEZONE
END:VCALENDAR