BEGIN:VCALENDAR
VERSION:2.0
PRODID:-//wp-events-plugin.com//7.2.3.1//EN
TZID:Europe/Zurich
X-WR-TIMEZONE:Europe/Zurich
BEGIN:VEVENT
UID:3983@feel-vaud.ch
DTSTART;TZID=Europe/Zurich:20220916T140000
DTEND;TZID=Europe/Zurich:20220916T153000
DTSTAMP:20220825T173652Z
URL:https://feel-vaud.ch/events/jardin-des-sons-2/
SUMMARY:Jardin des sons
DESCRIPTION:Âge\, cycle concerné :  4 à 9 ans\n\nAnimateur (s) : Le Cap
 itaine Pôle \n\nContact : Mylène 079.547.53.62\n\nLieu : L'atelier se 
 Au jardin des sons à Daillens.\n\nDescriptif : Concept musical\, voir sit
 e internet en lien\n\nDurée du module : 1heure30\n\nNbr max de participa
 nt : 10 enfants \n\nParticipants : \n\n 	Téa 5 ans\n 	Elynn 7 ans\n 	Yo
 han 5 ans\n 	Lucie 6 ans\n 	Waira 5 ans\n        Maora 6 ans\n        Lyan
 a 4 ans\n        Simon 5 ans\n        Nathaniel \n        Nom\n\nAccompagn
 ants recherchés : Les parents peuvent être présents \n\nMatériel à pr
 endre : Casquette (l’atelier est annulé si mauvais temps « pluie »
 ) \n\nFrais : 10.-/enfant (100.- l’atelier)\n\nLien :  https://www.jard
 indessons.ch/ \n\n
END:VEVENT
BEGIN:VTIMEZONE
TZID:Europe/Zurich
X-LIC-LOCATION:Europe/Zurich
BEGIN:DAYLIGHT
DTSTART:20220327T030000
TZOFFSETFROM:+0100
TZOFFSETTO:+0200
TZNAME:CEST
END:DAYLIGHT
END:VTIMEZONE
END:VCALENDAR