BEGIN:VCALENDAR
VERSION:2.0
PRODID:-//wp-events-plugin.com//7.2.3.1//EN
TZID:Europe/Zurich
X-WR-TIMEZONE:Europe/Zurich
BEGIN:VEVENT
UID:3157@feel-vaud.ch
DTSTART;TZID=Europe/Zurich:20220513T093000
DTEND;TZID=Europe/Zurich:20220513T114500
DTSTAMP:20220513T053731Z
URL:https://feel-vaud.ch/events/latelier-dherve/
SUMMARY:L'Atelier d'Hervé
DESCRIPTION:Âge\, cycle concerné : Cycle 3 / 9-12ans\n\nAnimateur (s) : 
 Hervé\n\nContact : 078/603.13.69 ou via les commentaires au bas de l'é
 vènement.\n\nLieu : L'atelier se déroule à Chevilly dans ma grange.\n
 \nDescriptif : Chaque enfant choisi un outil\, une machine\, un objet dans
  mon atelier et nous allons le découvrir ensemble\, le comprendre et l'es
 sayer.\n\nDurée du module : 1 session unique pour commencer - d'autres vi
 endront selon mes disponibilités et celles des enfants.\n\nNbr max de par
 ticipant : une dizaine \n\nParticipants : \n\n 	Nom\n 	Nom\n 	Nom\n 	No
 m\n 	Nom\n\nAccompagnants recherchés : Oui\, pour le trajets du retour de
  Chevilly à FEEL\, selon le nombre d'inscrits.\n\nMatériel à prendr
 e : Habits pas dommage\, habits de travail en atelier.\n\nFrais : 0.-\n\n
 Lien : Lieu de L'atelier (clic dessus)\n\nAutre : Nous serons (j'espère) 
 de retour à FEEL pour le repas collectif de midi.
END:VEVENT
BEGIN:VTIMEZONE
TZID:Europe/Zurich
X-LIC-LOCATION:Europe/Zurich
BEGIN:DAYLIGHT
DTSTART:20220327T030000
TZOFFSETFROM:+0100
TZOFFSETTO:+0200
TZNAME:CEST
END:DAYLIGHT
END:VTIMEZONE
END:VCALENDAR