BEGIN:VCALENDAR
VERSION:2.0
PRODID:-//wp-events-plugin.com//7.2.3.1//EN
TZID:Europe/Zurich
X-WR-TIMEZONE:Europe/Zurich
BEGIN:VEVENT
UID:4056@feel-vaud.ch
DTSTART;TZID=Europe/Zurich:20220921T140000
DTEND;TZID=Europe/Zurich:20220921T170000
DTSTAMP:20220918T134811Z
URL:https://feel-vaud.ch/events/permanence-projets-8-9h-2022-09-21/
SUMMARY:permanence projets 8-9H
DESCRIPTION:Âge\, cycle concerné : 8-9H\, groupe projet\n\n\nAnimateur (s
 ) : Angeline et Christian\n\n\nContact : Angeline 0793053127\n\n\nLieu : s
 alle Pedro\, pour le premier mercredi\, probablement chez Angeline\n\nDe
 scriptif : les enfants travaillent sur leur projet personnel soutenu par l
 es parents présents\n\n\nDurée du module : A priori\, toute l'année sco
 laire\n\n\nNbr max de participant : pas encore défini\n\nParticipants : 
 \n\n 	Célestin\n 	Yaëlle\n 	Maxime\n 	Luna?\n\nExceptions (enfants qui t
 ravaillent leurs leçons en autonomie dans la même pièce\, ne font pas p
 artie du groupe projet):\n\n 	Noé\n 	Elouan\n 	Théo\n\nAccompagnants rec
 herchés : \n\nMatériel à prendre : \n\n\nFrais : repas pour les enfants
  qui viennent du cours de Lisa (frais selon discussions avec les inscrits)
 \n\n\n&nbsp\;
END:VEVENT
BEGIN:VTIMEZONE
TZID:Europe/Zurich
X-LIC-LOCATION:Europe/Zurich
BEGIN:DAYLIGHT
DTSTART:20220327T030000
TZOFFSETFROM:+0100
TZOFFSETTO:+0200
TZNAME:CEST
END:DAYLIGHT
END:VTIMEZONE
END:VCALENDAR