BEGIN:VCALENDAR
VERSION:2.0
PRODID:-//wp-events-plugin.com//7.2.3.1//EN
TZID:Europe/Zurich
X-WR-TIMEZONE:Europe/Zurich
BEGIN:VEVENT
UID:6540@feel-vaud.ch
DTSTART;TZID=Europe/Zurich:20220830T133000
DTEND;TZID=Europe/Zurich:20220830T143000
DTSTAMP:20221129T204423Z
URL:https://feel-vaud.ch/events/philo-art-4-7h-2022-08-30/
SUMMARY:Philo/Art 4-7H
DESCRIPTION:Âge\, cycle concerné : 4-7H\n\nAnimateur (s) : Anna\, Mylèn
 e\, Alexia\n\nContact : Nom et n079.547.53.62\n\nLieu : L'atelier se L
 ’Atelier de FEEL\n\nDescriptif : Approche de la philosophie par des thè
 mes et activités créatives en fonction\n\nDurée du module : 1 année e
 nviron\n\nNbr max de participant : 8 enfants \n\nParticipants : \n\n 	Ta
 lya\n 	Téa\n 	Talia\n 	Lana-Lee\n 	Devan\n        Maora\n        Laurine\
 n        ?\nCOMPLET\n\n\nAccompagnants recherchés : Non\n\nMatériel à p
 rendre : Rien sauf demande\n\nFrais : Oui\, selon besoin matériel et pho
 tocopies
END:VEVENT
BEGIN:VTIMEZONE
TZID:Europe/Zurich
X-LIC-LOCATION:Europe/Zurich
BEGIN:DAYLIGHT
DTSTART:20220327T030000
TZOFFSETFROM:+0100
TZOFFSETTO:+0200
TZNAME:CEST
END:DAYLIGHT
END:VTIMEZONE
END:VCALENDAR