BEGIN:VCALENDAR
VERSION:2.0
PRODID:-//wp-events-plugin.com//7.2.3.1//EN
TZID:Europe/Zurich
X-WR-TIMEZONE:Europe/Zurich
BEGIN:VEVENT
UID:3275@feel-vaud.ch
DTSTART;TZID=Europe/Zurich:20220823T173000
DTEND;TZID=Europe/Zurich:20220823T190000
DTSTAMP:20220807T151025Z
URL:https://feel-vaud.ch/events/presentation-de-la-nouvelle-organisation-d
 e-lagenda/
SUMMARY:Présentation de la nouvelle organisation de l'agenda
DESCRIPTION:Âge\, cycle concerné : Tous\n\nAnimateur (s) : Hervé &amp\;
  Christian\n\nContact : Téléphones\n\nLieu : salle commune de La Filatu
 re (bâtiment en face de Feel\, entrée cabinet médical de Bruno\, 2èm
 e étage\, au fond du couloir à droite)\n\nDescriptif : Revoir l'utilisat
 ion du Forum\, présentation de la nouvelle organisation de l'agenda.\n\n 
 	Comment utiliser le Forum?\n 	A quoi sert le Forum?\n 	Comment crée un 
 événement dans l'agenda (récurrent)?\n 	Comment le modifier?\n 	Comment
  s'inscrire à un atelier?\n 	Qu'est ce qui se passe quand j'inscris mon e
 nfant à l'atelier?\n 	Que dois-je faire une fois que je reçois l'inscrip
 tion d'autrui?\n 	etc...\n 	etc...\n\nToutes vos questions serons les bien
 venues. Avec la nouvelle organisation de FEEL\, nous avons repensé l'agen
 da.\n\nDurée du module : 1h à 2h max. selon vos questions\n\nNbr max de 
 participant : Illimité!\n\nParticipants : \n\nIl serait bien qu'un re
 présentant de chaque famille puisse y participer.\n\nAccompagnants reche
 rchés : Non\n\nMatériel à prendre : De quoi prendre des notes\, si beso
 in\n\nFrais : 0.-\n\nLien : aucun\n\nAutre : Nous avons organisé une di
 stribution des locaux de FEEL. Pour une clarté des ateliers\, pour une 
 meilleures visibilité des activités au nouveaux adhérant. Il serait
  super que chacun puisse mettre ces ateliers et les tenir à jour au FEEL
  du temps 😉\n\nLe GT ReFEEL vous remercie d'avance pour votre participa
 tion et votre engagement à tenir l'agenda à jour et le plus propre possi
 ble.
END:VEVENT
BEGIN:VTIMEZONE
TZID:Europe/Zurich
X-LIC-LOCATION:Europe/Zurich
BEGIN:DAYLIGHT
DTSTART:20220327T030000
TZOFFSETFROM:+0100
TZOFFSETTO:+0200
TZNAME:CEST
END:DAYLIGHT
END:VTIMEZONE
END:VCALENDAR