BEGIN:VCALENDAR
VERSION:2.0
PRODID:-//wp-events-plugin.com//7.2.3.1//EN
TZID:Europe/Zurich
X-WR-TIMEZONE:Europe/Zurich
BEGIN:VEVENT
UID:3267@feel-vaud.ch
DTSTART;TZID=Europe/Zurich:20220728T100000
DTEND;TZID=Europe/Zurich:20220728T170000
DTSTAMP:20220723T172511Z
URL:https://feel-vaud.ch/events/rencontre-nouvelles-familles/
SUMMARY:Rencontre nouvelles familles
DESCRIPTION:Âge\, cycle concerné : tous\nAnimateur (s) : Christian \n\
 nContact : \n\nLieu : FEEL \n\nDescriptif : Accueil nouvelles familles.
  Présentation du fonctionnement de feel et questions. \n\nDurée du modu
 le : 1 jour\n\nNbr max de participant : -\n\nParticipants : \n\n 	Nom\n 
 	Nom\n 	Nom\n 	Nom\n 	Nom\n\nAccompagnants recherchés : Yaëlle et Collin
 e pour accueil des enfants \n\nMatériel à prendre : repas canadien\n\nF
 rais : -\n\nLien : -\n\nAutre : tout le monde est le bienvenu. 
END:VEVENT
BEGIN:VTIMEZONE
TZID:Europe/Zurich
X-LIC-LOCATION:Europe/Zurich
BEGIN:DAYLIGHT
DTSTART:20220327T030000
TZOFFSETFROM:+0100
TZOFFSETTO:+0200
TZNAME:CEST
END:DAYLIGHT
END:VTIMEZONE
END:VCALENDAR