BEGIN:VCALENDAR
VERSION:2.0
PRODID:-//wp-events-plugin.com//7.2.3.1//EN
TZID:Europe/Zurich
X-WR-TIMEZONE:Europe/Zurich
BEGIN:VEVENT
UID:3273@feel-vaud.ch
DTSTART;TZID=Europe/Zurich:20220727T100000
DTEND;TZID=Europe/Zurich:20220727T160000
DTSTAMP:20220727T143739Z
URL:https://feel-vaud.ch/events/rencontre-refil/
SUMMARY:Rencontre refil
DESCRIPTION:Âge\, cycle concerné :\n\nAnimateur (s) : Hervé et Chris\n\
 nContact : \n\nLieu : Feel\n\nDescriptif : organisation locaux feel\n\nD
 urée du module : 1 jour\n\nNbr max de participant : 2\n\nParticipants :
  \n\n 	Nom\n 	Nom\n 	Nom\n 	Nom\n 	Nom\n\nAccompagnants recherchés : Non
 \n\nMatériel à prendre : \n\nFrais : \n\nLien : \n\nAutre : 
END:VEVENT
BEGIN:VTIMEZONE
TZID:Europe/Zurich
X-LIC-LOCATION:Europe/Zurich
BEGIN:DAYLIGHT
DTSTART:20220327T030000
TZOFFSETFROM:+0100
TZOFFSETTO:+0200
TZNAME:CEST
END:DAYLIGHT
END:VTIMEZONE
END:VCALENDAR