BEGIN:VCALENDAR
VERSION:2.0
PRODID:-//wp-events-plugin.com//7.2.3.1//EN
TZID:Europe/Zurich
X-WR-TIMEZONE:Europe/Zurich
BEGIN:VEVENT
UID:6510@feel-vaud.ch
DTSTART;TZID=Europe/Zurich:20221118T120000
DTEND;TZID=Europe/Zurich:20221118T130000
DTSTAMP:20221118T060917Z
URL:https://feel-vaud.ch/events/repas-collectif-15/
SUMMARY:Repas collectif
DESCRIPTION:Âge\, cycle concerné : tous\n\nAnimateur (s) : Sandra V.\n\
 nContact : \n\nLieu : Feel \n\nDescriptif : Purée\, sauce champignon\,
  légume et tarte à la courge ou à la pomme\n\nDurée du module : -\n\nN
 br max de participant : -\n\nParticipants : \n\n 	Vauthey\n 	Staquet (6)\
 n 	Célestin (2)\n 	Maxime \n 	Vanessa et Simon \n 	Mylène (2)\n 	Charl
 otte et Saya (2)\n\nAccompagnants recherchés : pas forcément\, mais s'il
  y a des motivés... 😉\n\nMatériel à prendre : sourires et bonne hum
 eur\n\nFrais : 5.- la portion \n\nLien : \n\nAutre : 
CATEGORIES:Repas
END:VEVENT
BEGIN:VTIMEZONE
TZID:Europe/Zurich
X-LIC-LOCATION:Europe/Zurich
BEGIN:STANDARD
DTSTART:20221030T020000
TZOFFSETFROM:+0200
TZOFFSETTO:+0100
TZNAME:CET
END:STANDARD
END:VTIMEZONE
END:VCALENDAR