BEGIN:VCALENDAR
VERSION:2.0
PRODID:-//wp-events-plugin.com//7.2.3.1//EN
TZID:Europe/Zurich
X-WR-TIMEZONE:Europe/Zurich
BEGIN:VEVENT
UID:6018@feel-vaud.ch
DTSTART;TZID=Europe/Zurich:20220913T133000
DTEND;TZID=Europe/Zurich:20220913T141500
DTSTAMP:20220909T133725Z
URL:https://feel-vaud.ch/events/repetition-chants-scene-ouverte/
SUMMARY:répétition chants scène ouverte
DESCRIPTION:Pour ceux qui veulent se joindre à la chanson !\n\nPour chante
 r tous ensemble à la scène ouverte !\n\nMical propose 3 petits moments 
 à choix pour apprendre les deux chansons proposées par Mylène et Gaëll
 e (Le grand voyage et Imagine) : mardi\, mercredi ou jeudi de 13h30 à 14h
 15 environ
END:VEVENT
BEGIN:VTIMEZONE
TZID:Europe/Zurich
X-LIC-LOCATION:Europe/Zurich
BEGIN:DAYLIGHT
DTSTART:20220327T030000
TZOFFSETFROM:+0100
TZOFFSETTO:+0200
TZNAME:CEST
END:DAYLIGHT
END:VTIMEZONE
END:VCALENDAR