BEGIN:VCALENDAR
VERSION:2.0
PRODID:-//wp-events-plugin.com//7.2.3.1//EN
TZID:Europe/Zurich
X-WR-TIMEZONE:Europe/Zurich
BEGIN:VEVENT
UID:4030@feel-vaud.ch
DTSTART;TZID=Europe/Zurich:20220830T110000
DTEND;TZID=Europe/Zurich:20220830T120000
DTSTAMP:20220829T165101Z
URL:https://feel-vaud.ch/events/reunion-parents-projet-8-9h/
SUMMARY:Réunion parents projet 8-9H
DESCRIPTION:Âge\, cycle concerné : 8-9h\n\nAnimateur (s) : Christian \
 n\nContact : 076/567.56.29\n\nLieu : feel\n\nDescriptif : rencontre ent
 re parents pour coordination \n\nDurée du module : 1 heure\n\nNbr max d
 e participant : -\n\nParticipants : \n\n 	Christian\n 	Emmanuel\n 	Nom\n 
 	Nom\n 	Nom\n\nAccompagnants recherchés : Non\n\nMatériel à prendre : -
 \n\nFrais : -\n\nLien : \n\nAutre : -
END:VEVENT
BEGIN:VTIMEZONE
TZID:Europe/Zurich
X-LIC-LOCATION:Europe/Zurich
BEGIN:DAYLIGHT
DTSTART:20220327T030000
TZOFFSETFROM:+0100
TZOFFSETTO:+0200
TZNAME:CEST
END:DAYLIGHT
END:VTIMEZONE
END:VCALENDAR