BEGIN:VCALENDAR
VERSION:2.0
PRODID:-//wp-events-plugin.com//7.2.3.1//EN
TZID:Europe/Zurich
X-WR-TIMEZONE:Europe/Zurich
BEGIN:VEVENT
UID:3143@feel-vaud.ch
DTSTART;TZID=Europe/Zurich:20220701T170000
DTEND;TZID=Europe/Zurich:20220701T230000
DTSTAMP:20220509T102632Z
URL:https://feel-vaud.ch/events/scene-ouverte-a-feel/
SUMMARY:SCENE OUVERTE A FEEL
DESCRIPTION:Apportez votre bonne humeur\, poésie et musique !\n\nRepas can
 adien\n\nPrécisions à venir
END:VEVENT
BEGIN:VTIMEZONE
TZID:Europe/Zurich
X-LIC-LOCATION:Europe/Zurich
BEGIN:DAYLIGHT
DTSTART:20220327T030000
TZOFFSETFROM:+0100
TZOFFSETTO:+0200
TZNAME:CEST
END:DAYLIGHT
END:VTIMEZONE
END:VCALENDAR