BEGIN:VCALENDAR
VERSION:2.0
PRODID:-//wp-events-plugin.com//7.2.3.1//EN
TZID:Europe/Zurich
X-WR-TIMEZONE:Europe/Zurich
BEGIN:VEVENT
UID:6410@feel-vaud.ch
DTSTART;TZID=Europe/Zurich:20221214T170000
DTEND;TZID=Europe/Zurich:20221214T220000
DTSTAMP:20221115T104410Z
URL:https://feel-vaud.ch/events/scene-ouverte/
SUMMARY:SCENE OUVERTE!
DESCRIPTION:Âge\, cycle concerné : TOUS !!\n\nAnimateur (s) : Nom (s)\n
 \nContact : Nom et numéro de téléphone\n\nLieu : SALLE DE CONCERT DE LA
  BILLE\, LA FILATURE\n\nDescriptif : une soirée pour partager nos momen
 ts de travail artistiques\, musique\, théâtre\, poésie\, etc. Pour rir
 e s'amuser ensemble\n\nSoirée précédée et suivie de jeux de billards e
 t de babyfoot. Début des festivités 17h\, début de la scène ouverte 18
 h\n\nFin de soirée : 22h00\n\nInscrivez-vous à l'avance si vous le pouve
 z\, cela facilitera l'organisation : \n\n 	Téa violoncelle\n 	Talya viol
 on\n 	Jean-Claude : "un petit exposé"\n 	Nom\n 	Nom\n\nMatériel à pren
 dre : des bonnes choses à boire et manger à se partager !\n\nFrais : G
 ratuit\, Feel prend en charge la location 
END:VEVENT
BEGIN:VTIMEZONE
TZID:Europe/Zurich
X-LIC-LOCATION:Europe/Zurich
BEGIN:STANDARD
DTSTART:20221030T020000
TZOFFSETFROM:+0200
TZOFFSETTO:+0100
TZNAME:CET
END:STANDARD
END:VTIMEZONE
END:VCALENDAR