BEGIN:VCALENDAR
VERSION:2.0
PRODID:-//wp-events-plugin.com//7.2.3.1//EN
TZID:Europe/Zurich
X-WR-TIMEZONE:Europe/Zurich
BEGIN:VEVENT
UID:3279@feel-vaud.ch
DTSTART;TZID=Europe/Zurich:20221007T094500
DTEND;TZID=Europe/Zurich:20221007T123000
DTSTAMP:20220930T021038Z
URL:https://feel-vaud.ch/events/sciences-8-9h-2022-10-07/
SUMMARY:Sciences 8-9H
DESCRIPTION:\n 	Âge\, cycle concerné : Niveau 8-9H\n\nAnimateur (s) : 
 Luca et Christian\n\nContact : tél. Mail\, message.\n\nLieu : petite sa
 lle d'étude FEEL\n\nDescriptif : programme basé sur le classeur école 
 du dernier cycle (9-10-11 H). \n\nExpériences et théories sur différen
 ts thèmes :\n\nMatériaux/mécanique\n\nAnatomie/physiologie\n\nChimie\n\
 nphysique\n\n&nbsp\;\n\nDurée du module : env. 9 mois\n\n \n\nNbr max d
 e participant : 15 (à discuter)\n\nParticipants : \n\n 	Yaëlle \n 	Lu
 ca\n 	Sarah\n 	Luna\n 	Célestin\n 	Maxime\n\nAccompagnants recherchés : 
 Oui. Nous nous permettrons de contacter certains parents selon leurs comp
 étences spécifiques pour animer un ou plusieurs atelier(s)\n\nMatériel 
 à prendre : classeur 9-11 H\, trousse complète\, règle\, machine à ca
 lculer et grande motivation.\n\nFrais : éventuelles photocopies (en plus 
 du classeur)\n\nLien : -\n\nAutre : enfants motivés bienvenus. Ce serait
  chouette que chaque enfant présent à ces ateliers aient fais le choix d
 e venir. Il est possible de suivre un ou plusieurs  thème(s) et pas d'au
 tres.
END:VEVENT
BEGIN:VTIMEZONE
TZID:Europe/Zurich
X-LIC-LOCATION:Europe/Zurich
BEGIN:DAYLIGHT
DTSTART:20220327T030000
TZOFFSETFROM:+0100
TZOFFSETTO:+0200
TZNAME:CEST
END:DAYLIGHT
END:VTIMEZONE
END:VCALENDAR