BEGIN:VCALENDAR
VERSION:2.0
PRODID:-//wp-events-plugin.com//7.2.3.1//EN
TZID:Europe/Zurich
X-WR-TIMEZONE:Europe/Zurich
BEGIN:VEVENT
UID:3284@feel-vaud.ch
DTSTART;TZID=Europe/Zurich:20221111T094500
DTEND;TZID=Europe/Zurich:20221111T123000
DTSTAMP:20221105T210629Z
URL:https://feel-vaud.ch/events/sciences-8-9h-2022-11-11/
SUMMARY:Sciences 8-9H
DESCRIPTION:\n 	Âge\, cycle concerné : Niveau 8-9H\n\nAnimateur (s) : 
 Luca et Christian\n\nContact : tél. Mail\, message.\n\nLieu : salle comm
 une\n\nDescriptif : programme basé sur le classeur école du dernier cyc
 le (9-10-11 H). \n\nExpériences et théories sur différents thèmes :\n
 \nMatériaux/mécanique\n\nAnatomie/physiologie\n\nChimie\n\nphysique\n\n&
 nbsp\;\n\nDurée du module : env. 9 mois\n\n \n\nNbr max de participant 
 : 15 (à discuter)\n\nParticipants : \n\n 	Yaëlle \n 	Luca\n 	Sarah\n 
 	Luna\n 	Nom\n\nAccompagnants recherchés : Oui. Nous nous permettrons de 
 contacter certains parents selon leurs compétences spécifiques pour anim
 er un ou plusieurs atelier(s)\n\nMatériel à prendre : classeur 9-11 H\,
  trousse complète\, règle\, machine à calculer et grande motivation.\n\
 nFrais : éventuelles photocopies (en plus du classeur)\n\nLien : -\n\nAut
 re : enfants motivés bienvenus. Ce serait chouette que chaque enfant pr
 ésent à ces ateliers aient fais le choix de venir. Il est possible de su
 ivre un ou plusieurs  thème(s) et pas d'autres.
END:VEVENT
BEGIN:VTIMEZONE
TZID:Europe/Zurich
X-LIC-LOCATION:Europe/Zurich
BEGIN:STANDARD
DTSTART:20221030T020000
TZOFFSETFROM:+0200
TZOFFSETTO:+0100
TZNAME:CET
END:STANDARD
END:VTIMEZONE
END:VCALENDAR