BEGIN:VCALENDAR
VERSION:2.0
PRODID:-//wp-events-plugin.com//7.2.3.1//EN
TZID:Europe/Zurich
X-WR-TIMEZONE:Europe/Zurich
BEGIN:VEVENT
UID:6412@feel-vaud.ch
DTSTART;TZID=Europe/Zurich;VALUE=DATE:20221110
DTEND;TZID=Europe/Zurich;VALUE=DATE:20221111
DTSTAMP:20221105T104616Z
URL:https://feel-vaud.ch/events/slakline-en-hauteur/
SUMMARY:slakline en hauteur!
DESCRIPTION:est attaché ne vous en faites pas  . Franchement ça vaut le d
 étour\, c’est à quelques minutes à pied de feel\, jeudi 10 novembre t
 oute la journée. Endroit accessible pour tous. Bien sûr\, personne ne po
 urra essayer hihi ce n’est qu’un régal des yeux.\n\nVoici la descript
 ion de Didi pour y accéder:\nL’endroit de la highline se trouve entre l
 a filature et la Tine de Conflens. L’accès est depuis l’autre côté 
 de la rivière que feel\, donc depuis la filature vous retournez vers la r
 oute principale\, vous passez de l’autre côté de la rivière et vous l
 a longez jusqu’à ce qu’il y ait un petit chemin qui rentre dans la fo
 rêt à gauche. Restez proche de la rivière et cherchez l’endroit où u
 ne petite cascade tombe et fait beaucoup de bruit (elle sort d’un énorm
 e tuyau).\n\nOn sera joignable au 077 513 09 85.\n\nSi un groupe veut y al
 ler avec moi Charlotte c’est aussi possible que je vous guide\, je ne va
 is certainement pas y passer la journée entière.
CATEGORIES:Évènements
END:VEVENT
BEGIN:VTIMEZONE
TZID:Europe/Zurich
X-LIC-LOCATION:Europe/Zurich
BEGIN:STANDARD
DTSTART:20221030T020000
TZOFFSETFROM:+0200
TZOFFSETTO:+0100
TZNAME:CET
END:STANDARD
END:VTIMEZONE
END:VCALENDAR