BEGIN:VCALENDAR
VERSION:2.0
PRODID:-//wp-events-plugin.com//7.2.3.1//EN
TZID:Europe/Zurich
X-WR-TIMEZONE:Europe/Zurich
BEGIN:VEVENT
UID:3268@feel-vaud.ch
DTSTART;TZID=Europe/Zurich:20220720T100000
DTEND;TZID=Europe/Zurich:20220720T170000
DTSTAMP:20220717T211249Z
URL:https://feel-vaud.ch/events/sortie-piscine-de-la-sarraz-en-famille/
SUMMARY:Sortie piscine de La Sarraz en famille
DESCRIPTION:Âge\, cycle concerné : tous\n\nAnimateur (s) : Vauthey \n\
 nContact : \n\nLieu : piscine de La Sarraz \n\nDescriptif : piscine\, j
 eux d'eau\, ping-pong\, cartes etc... \n\nDurée du module : 1 jour\n\nN
 br max de participant : -\n\nParticipants : \n\n 	Vauthey (7)\n 	Beato (3
 )\n 	Nom\n 	Nom\n 	Nom\n\nAccompagnants recherchés : familles \n\nMatér
 iel à prendre : Pique-Nique\, raquettes de ping-pong et balles. \n\nFra
 is : adulte 6.- et enfant 4.- . Groupe dès 10 personnes 4.- adulte et 3.-
  enfant\n\nLien :-\n\nAutre : Nous avons un abonnement et donc on ne compt
 e pas dans le groupe de 10 personnes. 
END:VEVENT
BEGIN:VTIMEZONE
TZID:Europe/Zurich
X-LIC-LOCATION:Europe/Zurich
BEGIN:DAYLIGHT
DTSTART:20220327T030000
TZOFFSETFROM:+0100
TZOFFSETTO:+0200
TZNAME:CEST
END:DAYLIGHT
END:VTIMEZONE
END:VCALENDAR