BEGIN:VCALENDAR
VERSION:2.0
PRODID:-//wp-events-plugin.com//7.2.3.1//EN
TZID:Europe/Zurich
X-WR-TIMEZONE:Europe/Zurich
BEGIN:VEVENT
UID:3266@feel-vaud.ch
DTSTART;TZID=Europe/Zurich;VALUE=DATE:20221001
DTEND;TZID=Europe/Zurich;VALUE=DATE:20221002
DTSTAMP:20220713T182722Z
URL:https://feel-vaud.ch/events/uniquement-le-nom-de-latelier-12/
SUMMARY:Journée députés
DESCRIPTION:Journée de rencontre avec les députés au centre Feel\n\ndét
 ails à venir sur le forum\n\nContact : Jeanne 076 518 17 22
END:VEVENT
BEGIN:VTIMEZONE
TZID:Europe/Zurich
X-LIC-LOCATION:Europe/Zurich
BEGIN:DAYLIGHT
DTSTART:20220327T030000
TZOFFSETFROM:+0100
TZOFFSETTO:+0200
TZNAME:CEST
END:DAYLIGHT
END:VTIMEZONE
END:VCALENDAR