BEGIN:VCALENDAR
VERSION:2.0
PRODID:-//wp-events-plugin.com//7.2.3.1//EN
TZID:Europe/Zurich
X-WR-TIMEZONE:Europe/Zurich
BEGIN:VEVENT
UID:6021@feel-vaud.ch
DTSTART;TZID=Europe/Zurich:20220922T190000
DTEND;TZID=Europe/Zurich:20220922T213000
DTSTAMP:20220918T140212Z
URL:https://feel-vaud.ch/events/visite-de-collaborateur-comment-bien-se-pr
 eparer/
SUMMARY:Visite de collaborateur - comment bien se préparer
DESCRIPTION:Âge\, cycle concerné : Parents\n\nAnimateur (s) : Nicole Nebe
 hay\n\n\nContact : Nicole 079.313.22.22\n\nLieu : Salle Pedro FEEL\n\nDesc
 riptif : Nous allons mettre en commun les bonnes idées qui permettent de 
 préparer une visite de collaborateur pédagogique avec sérénité.\n\n\n
 Durée du module : Une soirée - selon les besoins 1-3 heures\n\nNbr max d
 e participant : Pas de limite\n\n\nParticipants : \n\n 	Mylène\n 	Christ
 ian\n 	Jean-Claude\n 	Sandrine\n 	Luca\n 	Sylvie\n 	Charlotte\n 	\n\nAccom
 pagnants recherchés : Non \n\nMatériel à prendre : Aucun\n\nFrais : 0.-
 \n\nLien : Lien vers la discussion forum ou chaîne de mail forum corres
 pondante\,  lien du site de l'endroit à visiter\, etc...\n\nAutre : 
END:VEVENT
BEGIN:VTIMEZONE
TZID:Europe/Zurich
X-LIC-LOCATION:Europe/Zurich
BEGIN:DAYLIGHT
DTSTART:20220327T030000
TZOFFSETFROM:+0100
TZOFFSETTO:+0200
TZNAME:CEST
END:DAYLIGHT
END:VTIMEZONE
END:VCALENDAR